Workbook

Sheet NPOO projekti
B1: Praćenje provedbe programskih ugovora | Z1: ='Pokazatelji rezultata'!B3 -> Broj uspješnih projektnih prijava na kompetitivne izvore financiranja (od čega: ERC, ostali međunarodni programi)
B2: Pokazatelji rezultata - obrazac za praćenje institucionalnih istraživačkih projekata | Z2: ='Pokazatelji rezultata'!B6 -> Vrijednost kompetitivnih znanstvenih projekata (od čega: ERC, ostali međunarodni programi)
B3: Korisnik: | Z3: ='Pokazatelji rezultata'!B8 -> Broj znanstvenih radova u SCOPUS i WoS, A1 časopisima te međunarodno recenziranim zbornicima za društvene i humanističke znanosti te umjetničko područje
Z4: ='Pokazatelji rezultata'!B9 -> Broj provedenih aktivnosti (opseg) organizacijske reforme s ciljem funkcionalne integracije
A5: 1 | B5: 2 | C5: 3 | D5: 4 | H5: 5 | Z5: ='Pokazatelji rezultata'!B12 -> Broj provedenih aktivnosti (opseg) organizacijske reforme s ciljem pravne integracije
A6: Broj projekta | B6: Naziv istraživačkog projekta | C6: Pokazatelj rezultata (PR) | D6: Pokazatelj rezultata (PR) | Z6: ='Pokazatelji rezultata'!B15 -> Broj uspješnih projektnih prijava u suradnji s inozemnim partnerom
D7: 30.09.2026. | E7: 30.09.2027. (Vrijednost na ključnoj točki ostvarenja) | F7: 30.09.2028. | G7: 31.12.2029. (Ciljana vrijednost) | H7: Obrazloženje | Z7: ='Pokazatelji rezultata'!B17 -> Broj suradnji s inozemnim partnerima
Z8: ='Pokazatelji rezultata'!B18 -> Broj znanstvenika uključenih u aktivnosti znanstvene mobilnosti
Z9: ='Pokazatelji rezultata'!B19 -> Broj znanstvenika koji su stekli poslijediplomsku kvalifikaciju ili završili postdoktorsko usavršavanje izvan matičnog javnog visokog učilišta, odnosno javnog znanstvenog instituta
Z10: ='Pokazatelji rezultata'!B20 -> Broj završenih doktorata (od čega: doktorati međunarodnih doktorskih studenata)
Z11: ='Pokazatelji rezultata'!B22 -> Broj znanstvenika zaposlenih na teret namjenskih/vlastitih sredstava
Z12: ='Pokazatelji rezultata'!B24 -> Broj pohađanih i održanih edukacija u svrhu jačanja potencijala stručnih službi
Z13: ='Pokazatelji rezultata'!B25 -> Broj aktivnosti vezanih uz jačanje kompetencija stručnih službi
Z14: ='Pokazatelji rezultata'!B26 -> Broj projektnih prijava koje su ostvarene u suradnji sa stručnim službama javnog visokog učilišta, odnosno javnog znanstvenog instituta
Z15: ='Pokazatelji rezultata'!B27 -> Ukupno ulaganje javnog visokog učilišta, odnosno javnog znanstvenog instituta, u istraživačku opremu iz vlastitih sredstava
Z16: ='Pokazatelji rezultata'!B29 -> Ukupno ulaganje javnog visokog učilišta, odnosno javnog znanstvenog instituta, u istraživačku infrastrukturu iz vlastitih sredstava
Z17: ='Pokazatelji rezultata'!B31 -> Broj provedenih mjera i uvedenih alata za poticanje politike otvorene znanosti
Z18: ='Pokazatelji rezultata'!B32 -> Broj uspješnih projektnih prijava za interdisciplinarne znanstvene projekte
Z19: ='Pokazatelji rezultata'!B34 -> Broj znanstvenih knjiga uključujući i one za umjetničko područje
Z20: ='Pokazatelji rezultata'!B37 -> Broj uspješnih projektnih prijava za projekte primijenjenih istraživanja (od čega: suradni projekti s gospodarstvom ili u kulturi i obrazovanju)
Z21: ='Pokazatelji rezultata'!B41 -> Broj formalnih suradnji s gospodarskim subjektima te ustanovama iz kulture i obrazovanja
Z22: ='Pokazatelji rezultata'!B42 -> Broj patentnih prijava
Z23: ='Pokazatelji rezultata'!B43 -> Broj drugih oblika intelektualnog vlasništva
Z24: ='Pokazatelji rezultata'!B44 -> Broj pokrenutih projekata transfera tehnologije i znanja
Z25: ='Pokazatelji rezultata'!B45 -> Broj ugovorenih projekata za pružanje usluga gospodarstvu i javnim tijelima u razvoju kulture i obrazovanja
Z26: ='Pokazatelji rezultata'!B47 -> Vrijednost projekata za usluge gospodarstvu i javnim tijelima u razvoju kulture i obrazovanja
Z27: ='Pokazatelji rezultata'!B49 -> Broj uvedenih inovativnih metoda
Z28: ='Pokazatelji rezultata'!B50 -> Udio norme zaposlenih nastavnika i suradnika po studiju u ukupnoj normi akreditiranih diplomskih i prijediplomskih studija
Z29: ='Pokazatelji rezultata'!B53 -> Broj nastavnika koji su sudjelovali u obrazovnim programima jačanja nastavničkih kompetencija
Z30: ='Pokazatelji rezultata'!B54 -> Broj studenata koji su ostvarili najmanje 5 ECTS na studentskoj praksi
Z31: ='Pokazatelji rezultata'!B55 -> Broj studenata koji sudjeluju na nacionalnim i međunarodnim natjecanjima u području studija
Z32: ='Pokazatelji rezultata'!B56 -> Udio studenata koji su u roku upisali višu godinu u ukupnom broju studenata
Z33: ='Pokazatelji rezultata'!B57 -> Broj dodijeljenih studentskih stipendija
Z34: ='Pokazatelji rezultata'!B58 -> Omjer broja studenata koji su završili doktorski studij u roku u prethodnoj akademskoj godini i broja upisanih studenata u doktorski studij u razdoblju od prethodnih šest akademskih godina
Z35: ='Pokazatelji rezultata'!B60 -> Broj združenih studija koji se izvode u suradnji s inozemnim visokim učilištem
Z36: ='Pokazatelji rezultata'!B61 -> Broj nastavnika koji sudjeluju u međunarodnoj razmjeni
Z37: ='Pokazatelji rezultata'!B62 -> Broj studenata koji sudjeluju u međunarodnoj razmjeni
A38: Upute za popunjavanje
A39: Obrazac se ispunjava zasebno za svaki projekt. Unijeti sve pokazatelje iz projektne prijave; prema potrebi dodati nove retke.
A40: Pokazatelj odabrati iz padajućeg izbornika. Opisi pokazatelja dostupni su na listu „Pokazatelji rezultata“. Ako pokazatelj iz projektne prijave nije ponuđen, unijeti ga ručno. | Z40: ='Pokazatelji rezultata'!B66 -> Broj upisanih standarda kvalifikacija u Registar Hrvatskog kvalifikacijskog okvira
A41: Vrijednosti pokazatelja iskazuju se kumulativno: 1. godina → 1.+2. godina → 1.+2.+3. godina → konačno ostvarenje za cijelo razdoblje provedbe. | Z41: ='Pokazatelji rezultata'!B67 -> Broj stipendija za deficitarna zanimanja
A42: Ako doprinos pokazatelju nije ostvaren, unijeti 0. | Z42: ='Pokazatelji rezultata'!B69 -> Broj redovitih studenata u STEM područjima u odnosu na ukupan broj redovitih studenata.
A43: U stupcu „Obrazloženje“ ukratko navesti na temelju kojih aktivnosti/rezultata je iskazana vrijednost ostvarena. | Z43: ='Pokazatelji rezultata'!B72 -> Broj formaliziranih suradnji s tijelima državne uprave i javnog sektora
A44: Detaljne upute dostupne su u dokumentu "Smjernice za izvještavanje" | Z44: ='Pokazatelji rezultata'!B73 -> Broj poduzetih mjera za promicanje kulture jednakosti i ravnopravnosti
Z45: ='Pokazatelji rezultata'!B75 -> Broj zaposlenika koji su završili programe stručnog usavršavanja
Z46: ='Pokazatelji rezultata'!B77 -> Broj programa cjeloživotnog obrazovanja koji se izvode na javnom visokom učilištu usklađenih s Hrvatskim kvalifikacijskim okvirom
Z47: ='Pokazatelji rezultata'!B78 -> Udio redovnih studenata iz ranjivih skupina u ukupnom broju redovnih studenata
Z48: ='Pokazatelji rezultata'!B82 -> Broj provedenih organizacijskih mjera za smanjenje administrativnih troškova
Z49: ='Pokazatelji rezultata'!B83 -> Iznos vlastitih i namjenskih sredstava utrošen na projekte s ciljem digitalne transformacije poslovanja
Z50: ='Pokazatelji rezultata'!B84 -> Iznos vlastitih i namjenskih sredstava utrošen na projekte s ciljem podizanja energetske učinkovitosti
Z51: ='Pokazatelji rezultata'!B86 -> Broj aktivnosti popularizacije znanosti i umjetnosti

Sheet Pokazatelji rezultata
A1: Posebni cilj | B1: Pokazatelj rezultata | C1: Opis
A2: Strateški cilj 1. Podizanje znanstvene izvrsnosti
A3: 1.1. Povećanje sudjelovanja javnih visokih učilišta i javnih znanstvenih instituta u kompetitivnom projektnom financiranju | B3: Broj uspješnih projektnih prijava na kompetitivne izvore financiranja (od čega: ERC, ostali međunarodni programi) | C3: Pokazatelj mjeri broj uspješnih projektnih prijava za ostvarivanje bespovratnih sredstava, podnesenih na kompetitivne izvore financiranja koji prvenstveno financiraju znanstvene aktivnosti (ne i stručne). Izvori financiranja uključuju nacionalne (financiranje iz programa NPOO, ESIF, HRZZ i slično) i međunarodne natječaje za dodjelu bespovratnih sredstava (ERC/Horizon Europe, Interreg, Erasmus, ESA, NSF USA i dr.).
C4: Uspješne prijave definiraju se kao: (a) ugovorene za financiranje ili (b) pozitivno ocjenjene prijave predložene za financiranje, ali nisu financirane zbog nedostatnih sredstava (rezervna lista).
C5: U okviru praćenja pokazatelja, kao posebna (disagregirana) mjera, pratit će se projektne prijave na natječaje ERC-a i ostale međunarodne izvore financiranja.
B6: Vrijednost kompetitivnih znanstvenih projekata (od čega: ERC, ostali međunarodni programi) | C6: Pokazatelj mjeri iznos bespovratnih sredstava za znanstvene projekte osiguran temeljem uspješnih prijava na kompetitivne izvore financiranja koji prvenstveno financiraju znanstvene (ne i stručne). U ostvarenje pokazatelja ubrajaju se projekti za koje je uspješno završen proces dodjele bespovratnih sredstava (donesena odluka o financiranju ili ekvivalentan dokument). Izvori financiranja uključuju nacionalne (financiranje iz programa NPOO, ESIF, HRZZ i slično) i međunarodne natječaje za dodjelu bespovratnih sredstava (ERC/Horizon Europe, NSF USA i dr.).
C7: U okviru praćenja pokazatelja, kao posebna (disagregirana) mjera, pratit će se projekti osigurani kroz natječaje ERC-a i kroz ostale međunarodne izvore financiranja.
B8: Broj znanstvenih radova u SCOPUS i WoS, A1 časopisima te međunarodno recenziranim zbornicima za društvene i humanističke znanosti te umjetničko područje | C8: Pokazateljem se prati ukupan broj znanstvenih radova objavljenih na razini javnog visokog učilišta, odnosno javnog znanstvenog instituta, koji su objavljeni u znanstvenim časopisima rangiranim u indeksnim bazama SCOPUS i WoS, A1 časopisima te međunarodno recenziranim zbornicima.
A9: 1.2. Provođenje reorganizacije znanstvenog rada i organizacijske reforme | B9: Broj provedenih aktivnosti (opseg) organizacijske reforme s ciljem funkcionalne integracije | C9: Pokazatelj se odnosi na broj aktivnosti (opseg) organizacijske reforme koje se namjeravaju provesti na javnom visokom učilištu, odnosno javnom znanstvenom institutu, s ciljem funkcionalne integracije.
C10: Javno visoko učilište, odnosno javni znanstveni institut, opisuje detaljan opseg planiranih aktivnosti organizacijske reforme.
C11: Reforme s ciljem funkcionalne integracije mogu uključivati objedinjavanje znanstvene opreme kroz središnje uslužne centre, objedinjavanje i smanjenje broja studija, integraciju pojedinačnih doktorskih studija u doktorske škole i sl.
B12: Broj provedenih aktivnosti (opseg) organizacijske reforme s ciljem pravne integracije | C12: Pokazatelj se odnosi na broj aktivnosti (opseg) organizacijske reforme koje se namjeravaju provesti na javnom visokom učilištu, odnosno javnom znanstvenom institutu, s ciljem pravne integracije.
C13: Javno visoko učilište, odnosno javni znanstveni institut, opisuje detaljan opseg planiranih aktivnosti organizacijske reforme.
C14: Reforme s ciljem pravne integracije podrazumijevaju integraciju i konsolidaciju kapaciteta s drugim institucijama sa sličnim misijama, pri čemu reforma u pravilu podrazumijeva pravno spajanje više institucija poput integracija javnih znanstvenih instituta, integracija sastavnica sveučilišta s pravnom osobnošću, pripajanje instituta sveučilištu i sl.
A15: 1.3. Jačanje međunarodne znanstvene suradnje i znanstvene aktivnosti | B15: Broj uspješnih projektnih prijava u suradnji s inozemnim partnerom | C15: Pokazateljem se prati broj uspješnih projektnih prijava na kompetitivne izvore financiranja javnog visokog učilišta, odnosno javnog znanstvenog instituta, u suradnji s inozemnim partnerima
C16: Uspješne prijave definiraju se kao: (a) ugovorene za financiranje ili (b) pozitivno ocjenjene prijave predložene za financiranje, ali nisu financirane zbog nedostatnih sredstava (rezervna lista).
B17: Broj suradnji s inozemnim partnerima | C17: Pokazatelj se odnosi na broj suradnji javnog visokog učilišta, odnosno javnog znanstvenog instituta, ostvarenih s inozemnim partnerima. Suradnje koje se ubrajaju u ostvarenje pokazatelja uključuju barem jednog zaposlenika s javnog visokog učilišta, odnosno javnog znanstvenog instituta, i barem jednog zaposlenika angažiranog na javnom visokom učilištu, javnom znanstvenom institutu ili u poduzeću sa sjedištem izvan RH. Pojam suradnja može se, na primjer, odnositi na objavu najmanje pet zajedničkih publikacija, ugovoreni novi zajednički istraživačko-razvojni projekt, ili druge formalne sporazume i ugovore, memorandume o razumijevanju i druge oblike znanstvene suradnje koji uključuju javno visoko učilište, odnosno javni znanstveni institut, ili njihove zaposlenike.
B18: Broj znanstvenika uključenih u aktivnosti znanstvene mobilnosti | C18: Pokazatelj se odnosi na broj znanstvenika angažiranih na javnom visokom učilištu, odnosno javnom znanstvenom institutu, koji su uključeni u aktivnosti međunarodne mobilnosti. Aktivnost međunarodne mobilnosti definira se kao posjeta znanstvenika znanstvenoj organizaciji u drugoj zemlji u trajanju od najmanje mjesec dana, kako bi provodili istraživačke aktivnosti kao gostujući znanstvenici. Pokazatelj ne uključuje posjećivanje događaja kao što su sastanci, radionice i konferencije.
A19: 1.4. Jačanje ljudskih potencijala za znanstveni rad | B19: Broj znanstvenika koji su stekli poslijediplomsku kvalifikaciju ili završili postdoktorsko usavršavanje izvan matičnog javnog visokog učilišta, odnosno javnog znanstvenog instituta | C19: Pokazatelj prati ukupan broj znanstvenika koji su stekli poslijediplomsku kvalifikaciju ili završili postdoktorsko usavršavanje izvan institucije na kojoj su zaposleni.
B20: Broj završenih doktorata (od čega: doktorati međunarodnih doktorskih studenata) | C20: Pokazatelj prati ukupan broj završenih doktorata znanstvenika angažiranih na javnom visokom učilištu, odnosno javnom znanstvenom institutu, unutar ugovornog razdoblja.
C21: U okviru praćenja pokazatelja, kao posebna (disagregirana) mjera, pratit će se broj inozemnih doktorskih studenata koji završe doktorat na podržanom javnom visokom učilištu, odnosno javnom znanstvenom institutu.
B22: Broj znanstvenika zaposlenih na teret namjenskih/vlastitih sredstava | C22: Pokazatelj prati ukupan broj znanstvenika zaposlenih na javnom visokom učilištu, odnosno javnom znanstvenom institutu, na teret namjenskih/vlastitih sredstava.
C23: Znanstvenik je osoba sa stečenim akademskim stupnjem doktora znanosti odnosno magistra znanosti te osoba upisana na doktorski studij i koja aktivno sudjeluje u provedbi istraživanja.
A24: 1.5. Jačanje ljudskih potencijala stručnih službi | B24: Broj pohađanih i održanih edukacija u svrhu jačanja potencijala stručnih službi | C24: Pokazatelj mjeri broj edukacija koje su zaposlenici stručnih službi pohađali kao i broj edukacija koje su organizirali u svrhu jačanja kapaciteta javnog visokog učilišta, odnosno javnog znanstvenog instituta za provođenje znanstvenih i stručnih projekata.
B25: Broj aktivnosti vezanih uz jačanje kompetencija stručnih službi | C25: Pokazatelj se odnosi na broj aktivnosti koje su provedene na javnom visokom učilištu, odnosno javnom znanstvenom institutu, s ciljem umrežavanja stručnih službi te razmjene najboljih praksi.
B26: Broj projektnih prijava koje su ostvarene u suradnji sa stručnim službama javnog visokog učilišta, odnosno javnog znanstvenog instituta | C26: Pokazatelj mjeri broj projektnih prijava visokog učilišta, odnosno javnog znanstvenog instituta za koje su konzultirane stručne službe. Postojanje interne procedure za prijavu projektnih prijedloga u svrhu osnaživanja suradnje sa stručnim službama i vođenja evidencije projektnih prijava.
A27: 1.6. Unaprjeđenje istraživačke infrastrukture | B27: Ukupno ulaganje javnog visokog učilišta, odnosno javnog znanstvenog instituta, u istraživačku opremu iz vlastitih sredstava | C27: Pokazatelj mjeri ukupnu nabavnu vrijednost opreme za istraživanje i inovacije nabavljenu iz vlastitih sredstava. U ostvarenje pokazatelja ne ubraja se ulaganje u opremu iz sredstava osiguranih kroz bespovratna sredstva ili donacije drugih subjekata u naravi.
C28: Oprema za istraživanje i razvoj uključuje sve aparate, alate i uređaje koji se izravno koriste za obavljanje aktivnosti istraživanja i razvoja. Oprema ne uključuje, na primjer, kemijske tvari ili druge potrošne materijale koji se koriste za provođenje eksperimenata ili drugih istraživačkih aktivnosti.
B29: Ukupno ulaganje javnog visokog učilišta, odnosno javnog znanstvenog instituta, u istraživačku infrastrukturu iz vlastitih sredstava | C29: Pokazatelj mjeri ukupnu vrijednost ulaganja u istraživačku infrastrukturu iz namjenskih ili vlastitih sredstava. U ostvarenje pokazatelja ne ubraja se ulaganje u infrastrukturu iz sredstava osiguranih kroz bespovratna sredstva ili donacije drugih subjekata u naravi.
C30: Ulaganja u istraživačku infrastrukturu mogu se odnositi na projekte izgradnje novih objekata ili poboljšanja postojeće istraživačke infrastrukture unutar svog područja rada ili u svrhu novih smjerova istraživanja.
A31: 1.7. Doprinos otvorenoj znanosti | B31: Broj provedenih mjera i uvedenih alata za poticanje politike otvorene znanosti | C31: Pokazatelj mjeri broj konkretnih mjera koje je institucija poduzela i alata koje je uvela kako bi potaknula i podržala politiku otvorene znanosti. To može uključivati aktivnosti kao što su usvajanje smjernica za otvorenu znanost, organizacija edukativnih radionica o otvorenoj znanosti, razvoj otvorenih istraživačkih platformi ili alata, podrška istraživačima u dijeljenju podataka, te sudjelovanje u inicijativama koje promiču otvorenu znanost.
A32: 1.8. Jačanje interdisciplinarnosti znanstvenog rada | B32: Broj uspješnih projektnih prijava za interdisciplinarne znanstvene projekte | C32: Pokazatelj mjeri broj uspješnih projektnih prijava javnog visokog učilišta, odnosno javnog znanstvenog instituta, na bespovratna sredstva za provedbu znanstvenih projekata u kojima sudjeluju znanstvenici iz najmanje dva različita znanstvena polja.
C33: Uspješne prijave definiraju se kao: (a) ugovorene za financiranje ili (b) pozitivno ocjenjene prijave i predložene za financiranje ali nisu financirane zbog nedostatnih sredstava (rezervna lista).
B34: Broj znanstvenih knjiga uključujući i one za umjetničko područje | C34: Pokazateljem se prati ukupan broj znanstvenih knjiga, autorskih i uredničkih, objavljenih na razini javnog visokog učilišta, odnosno javnog znanstvenog instituta, koji imaju najmanje dvije znanstvene recenzije.
C35: Znanstvenom knjigom smatra se ne-periodičko izdanje koje sadrži znanstvene spoznaje iz znanstveno-nastavne discipline za koju je napisana.
A36: Strateški cilj 2. Jačanje suradnje s gospodarstvom te razvoj nacionalnog i regionalnog identiteta i kulture
A37: 2.1. Poticanje provedbe primijenjenih znanstvenih aktivnosti, uključujući projekte suradnje s gospodarstvom | B37: Broj uspješnih projektnih prijava za projekte primijenjenih istraživanja (od čega: suradni projekti s gospodarstvom ili u kulturi i obrazovanju) | C37: Pokazatelj mjeri broj uspješnih projektnih prijava javnog visokog učilišta, odnosno javnog znanstvenog instituta, za ostvarivanje bespovratnih sredstava za provedbu primijenjenih istraživanja, uključujući kolaborativne projekte u suradnji s gospodarskim subjektima ili u kulturi i obrazovanju. U ostvarenje pokazatelja uključuju se prijave na kompetitivne izvore financiranja koji prvenstveno financiraju znanstvene aktivnosti (ne i stručne). Izvori financiranja uključuju nacionalne (financiranje iz programa NPOO, ESIF, HRZZ i slično) i međunarodne natječaje za dodjelu bespovratnih sredstava (ERC/Horizon Europe, Interreg, Erasmus, ESA i dr.).
C38: Uspješne prijave definiraju se kao: (a) ugovorene za financiranje ili (b) pozitivno ocjenjene prijave i predložene za financiranje ali nisu financirane zbog nedostatnih sredstava (rezervna lista).
C39: Pojam primijenjenih istraživanja odnosi se na kategorije industrijskog istraživanja i eksperimentalnog razvoja, odnosno aktivnosti razine tehnološke spremnosti (TRL) 2-8. Primijenjena istraživanja uključuju projekte u cilju stjecanja novih znanja i vještina za razvoj novih proizvoda, procesa ili usluga, odnosno za postizanje znatnog poboljšanja postojećih proizvoda, procesa ili usluga, a mogu obuhvaćati i izradu prototipova, demonstracijske aktivnosti, pilot-projekata, ispitivanje i provjeru novih ili poboljšanih proizvoda, procesa ili usluga u okruženju koje odražava operativne uvjete, i sl.
C40: U okviru praćenja pokazatelja, kao posebna (disagregirana) mjera, pratit će se projektne prijave za financiranje suradnih projekata s partnerima iz gospodarstva.
B41: Broj formalnih suradnji s gospodarskim subjektima te ustanovama iz kulture i obrazovanja | C41: Pokazatelj se odnosi na broj suradnji javnog visokog učilišta, odnosno javnog znanstvenog instituta, s partnerima iz sektora gospodarstva te iz kulture i obrazovanja. Suradnje koje se ubrajaju u ostvarenje pokazatelja uključuju barem jednog zaposlenika s javnog visokog učilišta i barem jednog predstavnika iz sektora gospodarstva ili kulture i obrazovanja. Pojam suradnja može se, na primjer, odnositi na zajedničku publikaciju, stažiranje, ugovoreni novi zajednički istraživačko-razvojni projekt te druge formalne sporazume i ugovore, memorandume o razumijevanju i druge oblike znanstveno suradnje koji uključuju javno visoko učilište ili njegove zaposlenike.
A42: 2.2. Unaprjeđenje institucijskog upravljanja intelektualnim vlasništvom | B42: Broj patentnih prijava | C42: Pokazatelj se odnosi na broj patentnih prijava podnesenih na osnovu rezultata istraživačko-razvojnih projekata javnog visokog učilišta, odnosno javnog znanstvenog instituta.
B43: Broj drugih oblika intelektualnog vlasništva | C43: Pokazatelj se odnosi na druge oblike intelektualnog vlasništva (osim patenta) kao što su žig (zaštitni znak), zaštićeni industrijski dizajn, oznake zemljopisnog podrijetla i oznake izvornosti, zaštićena biljna sorta, licence i dr. sukladno primjenjivim zakonskim normama.
B44: Broj pokrenutih projekata transfera tehnologije i znanja | C44: Pokazatelj se odnosi na broj pokrenutih projekata prijenosa rezultata istraživanja u svrhu njihovog daljnjeg razvoja i/ili korištenja u razvoju i komercijalizaciji novih proizvoda (roba ili usluga). Rezultati istraživanja mogu se prenijeti u obliku potpisanih ugovora o istraživanju i razvoju, ugovora o licenciranju, ili drugih oblika ugovora o prijenosu odnosno komercijalizaciji tehnologije. U ostvarenje pokazatelja ulazi i osnivanje start-up, spin-off i spin-out poduzeća temeljem kojih se tehnologija namjerava dalje razvijati i komercijalizirati.
A45: 2.3. Unaprjeđenje pružanja znanstvenih, istraživačkih ili tehnoloških usluga na slobodnom tržištu, uključujući usluge za razvoj kulture i obrazovanja | B45: Broj ugovorenih projekata za pružanje usluga gospodarstvu i javnim tijelima u razvoju kulture i obrazovanja | C45: Pokazatelj prati broj ugovorenih projekata na javnom visokom učilištu, odnosno javnom znanstvenom institutu, u pružanju usluga gospodarskim i ostalim javnim subjektima u razvoju kulture i obrazovanja. Pokazatelj se odnosi na projekte, što može uključivati ugovorna istraživanja, izradu publikacija, analiza i studija, usluge pružene različitim privrednim i ostalim subjektima.
B47: Vrijednost projekata za usluge gospodarstvu i javnim tijelima u razvoju kulture i obrazovanja | C47: Pokazatelj prati iznos ugovorenih projekata pruženih usluga gospodarskim i ostalim subjektima u razvoju kulture i obrazovanja. Pokazatelj se odnosi na projekte, što može uključivati ugovorna istraživanja, izradu publikacija, analiza i studija, usluge pružene različitim privrednim i ostalim subjektima.
A48: Strateški cilj 3. Povećanje relevantnosti, kvalitete i učinkovitosti studiranja
A49: 3.1. Unaprjeđenje studija | B49: Broj uvedenih inovativnih metoda | C49: Pokazatelj se odnosi na broj inovativnih metoda studiranja uvedenih na javnom visokom učilištu. Pod inovativnim metodama podrazumijevaju se aktivnosti koje su usmjerene na inovaciju metoda poučavanja i stjecanja znanja a koje uključuju korištenje suvremenih metoda i tehnologija u nastavi, učenje temeljem rada na projektu, aktivno sudjelovanje u pisanju znanstvenih i stručnih radova, stručna praksa kod gospodarskih i javnih subjekata, osnivanje studentskih inkubatora, osmišljavanje, pisanje i provedba zajedničkih projekata s nastavnicima, uvođenje digitalnih alata za provjeru znanja, osnivanje studentskih poduzetničkih centara za razvoj poduzetničkih ideja i sl.
B50: Udio norme zaposlenih nastavnika i suradnika po studiju u ukupnoj normi akreditiranih diplomskih i prijediplomskih studija | C50: Pokazatelj se odnosi na udio ukupne norme zaposlenih nastavnika i suradnika po pojedinom akreditiranom diplomskom i prijediplomskom studiju u ukupnoj normi svih zaposlenih nastavnika i suradnika.
C51: Pokazatelj mjeri koliki prosječni udio norme svih zaposlenih nastavnika i suradnika pripada pojedinom studijskom programu. Dobiva se na način da se izračuna prosječna norma po pojedinom studijskom programu i podijeli s ukupnom normom svih zaposlenika.
C52: Izborni predmeti koji se pojavljuju na više studija, broje se samo jednom.
B53: Broj nastavnika koji su sudjelovali u obrazovnim programima jačanja nastavničkih kompetencija | C53: Pokazatelj se odnosi na broj nastavnika koji su ostvarili 30 ili više ECTS bodova kroz sudjelovanje u akreditiranim obrazovnim programima. Pod akreditiranim programima podrazumijevaju se obrazovni programi koji imaju odobrenje Ministarstva znanosti i obrazovanja ili su prošli interni sustav osiguravanja kvalitete na visokom učilištu sukladno pravilnicima o cjeloživotnom obrazovanju te su usklađeni sa standardom kvalifikacije u Registru Hrvatskog kvalifikacijskog okvira.
B54: Broj studenata koji su ostvarili najmanje 5 ECTS na studentskoj praksi | C54: Pokazatelj se odnosi na broj studenata koji su ostvarili 5 ili više ECTS bodova kroz pohađanje stručne prakse na studiju.
B55: Broj studenata koji sudjeluju na nacionalnim i međunarodnim natjecanjima u području studija | C55: Pokazatelj se odnosi na broj studenata koji su sudjelovali na nacionalnim i/ili međunarodnim natjecanjima u području studija.
A56: 3.2. Povećanje redovitosti i završnosti studiranja | B56: Udio studenata koji su u roku upisali višu godinu u ukupnom broju studenata | C56: Pokazatelj se odnosi na studente koji su u roku ostvarili dovoljan broj ECTS bodova i upisali višu godinu studija , tj. udio studenata koji su polaganjem ispita na predmetima propisanim nastavnim programom i koji se ubrajaju u kvotu definiranu za završetak studija stekli 55 i više ECTS bodova u odnosu na ukupan broj studenata.
B57: Broj dodijeljenih studentskih stipendija | C57: Pokazatelj se odnosi na godišnji prosjek broja stipendija dodijeljenih studentima na preddiplomskim i diplomskim studijima na javnom visokom učilištu, financiranih iz vlastitih izvora javnog visokog učilišta.
B58: Omjer broja studenata koji su završili doktorski studij u roku u prethodnoj akademskoj godini i broja upisanih studenata u doktorski studij u razdoblju od prethodnih šest akademskih godina | C58: Pokazatelj se odnosi na uspješnost studiranja na doktorskim studijima. Ostvarenje pokazatelja računa se na način da se broj studenata koji su završili doktorski studij u roku u prethodnoj akademskoj godini podijeli s ukupnim brojem upisanih studenata u doktorski studij u razdoblju od prethodnih šest akademskih godina.
C59: Pod završetkom studija u roku podrazumijeva se završetak u roku od šest godina ili kraće.
A60: 3.3. Povećanje međunarodne visokoobrazovne suradnje | B60: Broj združenih studija koji se izvode u suradnji s inozemnim visokim učilištem | C60: Pokazatelj se odnosi na broj združenih studija koji su akreditirani sukladno propisima kojima se uređuje osiguravanje kvalitete visokog obrazovanja i znanosti u Republici Hrvatskoj.
B61: Broj nastavnika koji sudjeluju u međunarodnoj razmjeni | C61: Razmjena uključuje broj nastavnika na javnom visokom učilištu koji su uključeni u dolazne i odlazne aktivnosti međunarodne mobilnosti koja uključuje održavanje nastave. Pod nastavom se podrazumijeva nastava u trajanju od najmanje 5 sati.
B62: Broj studenata koji sudjeluju u međunarodnoj razmjeni | C62: Pokazatelj se odnosi na broj studenata na javnom visokom učilištu koji su uključeni u dolazne i odlazne aktivnosti međunarodne mobilnosti. Aktivnost međunarodne mobilnosti definira se kao studentska mobilnost u trajanju od najmanje jednog semestra.
A63: 3.4. Usmjeravanje studijskih programa prema razvoju vještina koje jačaju konkurentnost na tržištu rada | B63: Upisne kvote na studije u odnosu prema potrebama tržišta rada | C63: Pokazatelj prati upisne kvote na studije prema potrebama tržišta rada odnosno preporukama za obrazovnu upisnu politiku i politiku stipendiranja Hrvatskog zavoda za zapošljavanje.
C64: Unutar aktivnosti koje se prate programskim ugovorom, javno visoko učilište može odabrati smanjenje (odnosno povećanje) upisnih kvota za one studijske programe za koje ne postoji (odnosno postoji) potreba na tržištu rada. Potrebu definira Hrvatski zavod za zapošljavanje unutar preporuka koje objavljuje u prosincu svake godine za iduću godinu.
B65: Broj studijskih programa usklađenih s Hrvatskim kvalifikacijskim okvirom | C65: Pokazatelj prati broj studijskih programa na javnom visokom učilištu koji su usklađeni sa standardima kvalifikacija postavljenima u Hrvatskom kvalifikacijskom okviru.
B66: Broj upisanih standarda kvalifikacija u Registar Hrvatskog kvalifikacijskog okvira | C66: Pokazatelj se odnosi na broj upisanih standarda kvalifikacija za koje je javno visoko učilište predalo zahtjev za upis u Registar Hrvatskog kvalifikacijskog okvira (https://hko.srce.hr/registar/).
B67: Broj stipendija za deficitarna zanimanja | C67: Pokazatelj se odnosi na broj stipendija iz namjenskih ili vlastitih sredstava dodijeljenih za deficitarna zanimanja.
C68: Preporuke za obrazovnu upisnu politiku i politiku stipendiranja donosi Hrvatski zavod za zapošljavanje.
B69: Broj redovitih studenata u STEM područjima u odnosu na ukupan broj redovitih studenata. | C69: Pokazatelj se odnosi na broj redovitih studenata koji studiraju studije u područjima prirodnih, tehničkih, biotehničkih i medicinskih znanosti u odnosu na ukupan broj redovitih studenata.
C70: Student upisan u redovitom statusu upisuje u pravilu 60 ECTS bodova u akademskoj godini u skladu s izvedbenim planom nastave te studira u sklopu pune nastavne satnice.
A71: Strateški cilj 4. Jačanje društvene odgovornosti
A72: 4.1. Rad na aktivnostima od nacionalnog značaja | B72: Broj formaliziranih suradnji s tijelima državne uprave i javnog sektora | C72: Pokazatelj mjeri broj formaliziranih suradnji javnog visokog učilišta, odnosno javnog znanstvenog instituta, s tijelima državne uprave i drugim tijelima javnog sektora. Formaliziranje suradnje uključuje imenovanja stručnjaka, formalni okvir suradnje, u sklopu koje bi javno visoko učilište, odnosno javni znanstveni institut, po potrebi i na zahtjev državnog ili javnog tijela, sudjelovalo u projektima od javnog interesa iz nadležnosti navedenog tijela. Suradnje mogu primjerice uključivati izradu studija i analitičkih podloga u svrhu donošenja odluka u državnim i javnim tijelima, sudjelovanje u izradi strateških dokumenata, i druge oblike suradnje s državnim i javnim tijelima, u područjima povezanima s područjem istraživanja i djelovanja javnog visokog učilišta, odnosno javnog znanstvenog instituta. Suradnja se odnosi na angažman zaposlenih stručnjaka ili projekta koji nije na komercijalnoj osnovi i provodi se u okviru redovnog rada javnog visokog učilišta, odnosno javnog znanstvenog instituta.
A73: 4.2. Jačanje kulture cjeloživotnog obrazovanja, jednakosti i ravnopravnosti | B73: Broj poduzetih mjera za promicanje kulture jednakosti i ravnopravnosti | C73: Pokazatelj prati broj mjera poduzetih u svrhu promicanja ravnopravnosti žena i muškaraca i zabrani diskriminacije, i/ili u svrhu promicanja pristupačnosti za osobe s invaliditetom. U ostvarenje pokazatelja ubrajaju se mjere koje se mogu kvantificirati (npr. broj organiziranih radionica ili predavanja na temu promicanja ravnopravnosti spolova, broj radova za unaprjeđenja pristupačnosti fizičke infrastrukture javnog visokog učilišta, odnosno javnog znanstvenog instituta, osobama s invaliditetom).
C74: Pokazatelj se odnosi na mjere koje već nisu propisane kao obavezne Zakonom o ravnopravnosti spolova i drugim propisima koji reguliraju jednakost i ravnopravnost.
B75: Broj zaposlenika koji su završili programe stručnog usavršavanja | C75: Pokazatelj mjeri broj zaposlenika koji su završili najmanje jedan program stručnog usavršavanja. Pod programima stručnog usavršavanja podrazumijevaju se akreditirani programi stručnog usavršavanja zaposlenika koji su vezani za uspješno obavljanje poslova iz opisa radnih mjesta na kojima se zaposlenici nalaze.
C76: Pod akreditiranim programima podrazumijevaju se programi stručnog usavršavanja koji imaju odobrenje Ministarstva znanosti i obrazovanja ili su prošli interni sustav osiguravanja kvalitete na javnom visokom učilištu sukladno pravilnicima o cjeloživotnom obrazovanju.
B77: Broj programa cjeloživotnog obrazovanja koji se izvode na javnom visokom učilištu usklađenih s Hrvatskim kvalifikacijskim okvirom | C77: Pokazatelj mjeri broj programa cjeloživotnog obrazovanja na javnom visokom učilištu, usklađenih s Hrvatskim kvalifikacijskim okvirom.
B78: Udio redovnih studenata iz ranjivih skupina u ukupnom broju redovnih studenata | C78: Pokazateljem se mjeri udio redovnih studenata iz ranjivih skupina u odnosu na ukupni broj redovnih studenata koji pohađaju studij.
C79: Ranjive skupine se definiraju kao osobe s invaliditetom, žrtve nasilja, beskućnici, migranti, Romi, neaktivni mladi, osobe starije od 50 godina, a posebice žene i drugi čije je zapošljavanje otežano.
C81: Student upisan u redovitom statusu upisuje u pravilu 60 ECTS bodova u akademskoj godini u skladu s izvedbenim planom nastave te studira u sklopu pune nastavne satnice.
A82: 4.3. Unaprjeđenje poslovanja javnog visokog učilišta, odnosno javnog znanstvenog instituta | B82: Broj provedenih organizacijskih mjera za smanjenje administrativnih troškova | C82: Pokazatelj mjeri broj provedenih organizacijskih mjera kojima je svrha smanjenje administrativnih troškova javnog visokog učilišta, odnosno javnog znanstvenog instituta. Primjeri administrativnih troškova uključuju najam prostora, režijske troškove (grijanje/hlađenje, struja, voda, čišćenje, odvoz otpada, telekomunikacije i sl.) i reorganizaciju administrativnog / neznanstvenog osoblja, uključujući preraspodjelu pripadnih troškova. Primjeri mjera uključuju spajanje administrativnih odjela, nova sistematizacija rada neznanstvenog osoblja i sl.
A83: 4.4. Digitalizacija poslovanja | B83: Iznos vlastitih i namjenskih sredstava utrošen na projekte s ciljem digitalne transformacije poslovanja | C83: Pokazatelj mjeri iznos vlastitih i namjenskih sredstava utrošen na provedene projekte s ciljem poboljšanja poslovnih procesa kroz uvođenje digitalnih oblika poslovanja. U ostvarenje pokazatelja ubraja se primjerice uvođenje digitalnih registara, uvođenje digitalne pohrane i dostave internih dokumenata, digitalni repozitorija, digitalizacije vođenja knjigovodstvenih, računovodstvenih poslova ili poslova projektne administracije, i sl.
A84: 4.5. Jačanje zelene tranzicije | B84: Iznos vlastitih i namjenskih sredstava utrošen na projekte s ciljem podizanja energetske učinkovitosti | C84: Pokazatelj mjeri iznos vlastitih i namjenskih sredstava utrošen na provedene projekte s ciljem uvođenja učinkovitog upravljanja energetskim resursima.
C85: U ostvarenje pokazatelja ubraja se učinkovito gospodarenje otpadom, podizanje razine energetske učinkovitosti zgrada, uvođenje energetski učinkovitog sustava grijanja i hlađenja, prelazak na obnovljive energijske izvore (npr. Ugradnja solarnih ćelija), u svrhu smanjenja financijskih izdataka za energente i očuvanja okoliša.
A86: 4.6. Popularizacija znanosti i umjetnosti | B86: Broj aktivnosti popularizacije znanosti i umjetnosti | C86: Pokazatelj mjeri broj aktivnosti/događanja koji se odnose na popularizaciju znanosti i umjetnosti. Aktivnosti mogu uključivati dane otvorenih vrata, prezentacije znanstvenih projekata ili novih znanstvenih postignuća ili umjetničkih radova i instalacija, događanja namijenjena mladima s ciljem popularizacije znanosti ili umjetnosti, izložbe i sl. koje se odnose na dionike svih razina obrazovanja, od najniže razine i najranije dobi.
C87: Ubrajaju se radio i TV emisije i te one aktivnosti sa značajnom diseminacijskom komponentom, konkretno, publikom od 50 i više osoba.
