Workbook

Sheet NPOO projekti
B1: Praćenje provedbe programskih ugovora | Z1: ='Pokazatelji rezultata'!B3 -> Broj uspješnih projektnih prijava na kompetitivne izvore financiranja (od čega: ERC, ostali međunarodni programi)
B2: Pokazatelji rezultata - obrazac za praćenje institucionalnih istraživačkih projekata | Z2: ='Pokazatelji rezultata'!B6 -> Vrijednost kompetitivnih znanstvenih projekata (od čega: ERC, ostali međunarodni programi)
B3: Korisnik: | Z3: ='Pokazatelji rezultata'!B8 -> Broj znanstvenih radova u SCOPUS i WoS, A1 časopisima te međunarodno recenziranim zbornicima za društvene i humanističke znanosti te umjetničko područje
Z4: ='Pokazatelji rezultata'!B9 -> Broj provedenih aktivnosti (opseg) organizacijske reforme s ciljem funkcionalne integracije
A5: 1 | B5: 2 | C5: 3 | D5: 4 | H5: 5 | Z5: ='Pokazatelji rezultata'!B12 -> Broj provedenih aktivnosti (opseg) organizacijske reforme s ciljem pravne integracije
A6: Broj projekta | B6: Naziv istraživačkog projekta | C6: Pokazatelj rezultata (PR) | D6: Pokazatelj rezultata (PR) | Z6: ='Pokazatelji rezultata'!B15 -> Broj uspješnih projektnih prijava u suradnji s inozemnim partnerom
D7: 30.09.2026. | E7: 30.09.2027. (Vrijednost na ključnoj točki ostvarenja) | F7: 30.09.2028. | G7: 31.12.2029. (Ciljana vrijednost) | H7: Obrazloženje | Z7: ='Pokazatelji rezultata'!B17 -> Broj suradnji s inozemnim partnerima
Z8: ='Pokazatelji rezultata'!B18 -> Broj znanstvenika uključenih u aktivnosti znanstvene mobilnosti
Z9: ='Pokazatelji rezultata'!B19 -> Broj znanstvenika koji su stekli poslijediplomsku kvalifikaciju ili završili postdoktorsko usavršavanje izvan matičnog javnog visokog učilišta, odnosno javnog znanstvenog instituta
Z10: ='Pokazatelji rezultata'!B20 -> Broj završenih doktorata (od čega: doktorati međunarodnih doktorskih studenata)
Z11: ='Pokazatelji rezultata'!B22 -> Broj znanstvenika zaposlenih na teret namjenskih/vlastitih sredstava
Z12: ='Pokazatelji rezultata'!B24 -> Broj pohađanih i održanih edukacija u svrhu jačanja potencijala stručnih službi
Z13: ='Pokazatelji rezultata'!B25 -> Broj aktivnosti vezanih uz jačanje kompetencija stručnih službi
Z14: ='Pokazatelji rezultata'!B26 -> Broj projektnih prijava koje su ostvarene u suradnji sa stručnim službama javnog visokog učilišta, odnosno javnog znanstvenog instituta
Z15: ='Pokazatelji rezultata'!B27 -> Ukupno ulaganje javnog visokog učilišta, odnosno javnog znanstvenog instituta, u istraživačku opremu iz vlastitih sredstava
Z16: ='Pokazatelji rezultata'!B29 -> Ukupno ulaganje javnog visokog učilišta, odnosno javnog znanstvenog instituta, u istraživačku infrastrukturu iz vlastitih sredstava
Z17: ='Pokazatelji rezultata'!B31 -> Broj provedenih mjera i uvedenih alata za poticanje politike otvorene znanosti
Z18: ='Pokazatelji rezultata'!B32 -> Broj uspješnih projektnih prijava za interdisciplinarne znanstvene projekte
Z19: ='Pokazatelji rezultata'!B34 -> Broj znanstvenih knjiga uključujući i one za umjetničko područje
Z20: ='Pokazatelji rezultata'!B37 -> Broj uspješnih projektnih prijava za projekte primijenjenih istraživanja (od čega: suradni projekti s gospodarstvom ili u kulturi i obrazovanju)
Z21: ='Pokazatelji rezultata'!B41 -> Broj formalnih suradnji s gospodarskim subjektima te ustanovama iz kulture i obrazovanja
Z22: ='Pokazatelji rezultata'!B42 -> Broj patentnih prijava
Z23: ='Pokazatelji rezultata'!B43 -> Broj drugih oblika intelektualnog vlasništva
Z24: ='Pokazatelji rezultata'!B44 -> Broj pokrenutih projekata transfera tehnologije i znanja
Z25: ='Pokazatelji rezultata'!B45 -> Broj ugovorenih projekata za pružanje usluga gospodarstvu i javnim tijelima u razvoju kulture i obrazovanja
Z26: ='Pokazatelji rezultata'!B47 -> Vrijednost projekata za usluge gospodarstvu i javnim tijelima u razvoju kulture i obrazovanja
Z27: ='Pokazatelji rezultata'!B49 -> Broj uvedenih inovativnih metoda
Z28: ='Pokazatelji rezultata'!B50 -> Udio norme zaposlenih nastavnika i suradnika po studiju u ukupnoj normi akreditiranih diplomskih i prijediplomskih studija
Z29: ='Pokazatelji rezultata'!B53 -> Broj nastavnika koji su sudjelovali u obrazovnim programima jačanja nastavničkih kompetencija
Z30: ='Pokazatelji rezultata'!B54 -> Broj studenata koji su ostvarili najmanje 5 ECTS na studentskoj praksi
Z31: ='Pokazatelji rezultata'!B55 -> Broj studenata koji sudjeluju na nacionalnim i međunarodnim natjecanjima u području studija
Z32: ='Pokazatelji rezultata'!B56 -> Udio studenata koji su u roku upisali višu godinu u ukupnom broju studenata
Z33: ='Pokazatelji rezultata'!B57 -> Broj dodijeljenih studentskih stipendija
Z34: ='Pokazatelji rezultata'!B58 -> Omjer broja studenata koji su završili doktorski studij u roku u prethodnoj akademskoj godini i broja upisanih studenata u doktorski studij u razdoblju od prethodnih šest akademskih godina
Z35: ='Pokazatelji rezultata'!B60 -> Broj združenih studija koji se izvode u suradnji s inozemnim visokim učilištem
Z36: ='Pokazatelji rezultata'!B61 -> Broj nastavnika koji sudjeluju u međunarodnoj razmjeni
Z37: ='Pokazatelji rezultata'!B62 -> Broj studenata koji sudjeluju u međunarodnoj razmjeni
A38: Upute za popunjavanje
A39: Obrazac se ispunjava zasebno za svaki projekt. Unijeti sve pokazatelje iz projektne prijave; prema potrebi dodati nove retke.
A40: Pokazatelj odabrati iz padajućeg izbornika. Opisi pokazatelja dostupni su na listu „Pokazatelji rezultata“. Ako pokazatelj iz projektne prijave nije ponuđen, unijeti ga ručno. | Z40: ='Pokazatelji rezultata'!B66 -> Broj upisanih standarda kvalifikacija u Registar Hrvatskog kvalifikacijskog okvira
...

Sheet Pokazatelji rezultata
A1: Posebni cilj | B1: Pokazatelj rezultata | C1: Opis
A2: Strateški cilj 1. Podizanje znanstvene izvrsnosti
A3: 1.1. Povećanje sudjelovanja javnih visokih učilišta i javnih znanstvenih instituta u kompetitivnom projektnom financiranju | B3: Broj uspješnih projektnih prijava na kompetitivne izvore financiranja (od čega: ERC, ostali međunarodni programi) | C3: Pokazatelj mjeri broj uspješnih projektnih prijava za ostvarivanje bespovratnih sredstava, podnesenih na kompetitivne izvore financiranja koji prvenstveno financiraju znanstvene aktivnosti (ne i stručne). Izvori financiranja uključuju nacionalne (financiranje iz programa NPOO, ESIF, HRZZ i slično) i međunarodne natječaje za dodjelu bespovratnih sredstava (ERC/Horizon Europe, Interreg, Erasmus, ESA, NSF USA i dr.).
C4: Uspješne prijave definiraju se kao: (a) ugovorene za financiranje ili (b) pozitivno ocjenjene prijave predložene za financiranje, ali nisu financirane zbog nedostatnih sredstava (rezervna lista).
C5: U okviru praćenja pokazatelja, kao posebna (disagregirana) mjera, pratit će se projektne prijave na natječaje ERC-a i ostale međunarodne izvore financiranja.
B6: Vrijednost kompetitivnih znanstvenih projekata (od čega: ERC, ostali međunarodni programi) | C6: Pokazatelj mjeri iznos bespovratnih sredstava za znanstvene projekte osiguran temeljem uspješnih prijava na kompetitivne izvore financiranja koji prvenstveno financiraju znanstvene (ne i stručne). U ostvarenje pokazatelja ubrajaju se projekti za koje je uspješno završen proces dodjele bespovratnih sredstava (donesena odluka o financiranju ili ekvivalentan dokument). Izvori financiranja uključuju nacionalne (financiranje iz programa NPOO, ESIF, HRZZ i slično) i međunarodne natječaje za dodjelu bespovratnih sredstava (ERC/Horizon Europe, NSF USA i dr.).
C7: U okviru praćenja pokazatelja, kao posebna (disagregirana) mjera, pratit će se projekti osigurani kroz natječaje ERC-a i kroz ostale međunarodne izvore financiranja.
B8: Broj znanstvenih radova u SCOPUS i WoS, A1 časopisima te međunarodno recenziranim zbornicima za društvene i humanističke znanosti te umjetničko područje | C8: Pokazateljem se prati ukupan broj znanstvenih radova objavljenih na razini javnog visokog učilišta, odnosno javnog znanstvenog instituta, koji su objavljeni u znanstvenim časopisima rangiranim u indeksnim bazama SCOPUS i WoS, A1 časopisima te međunarodno recenziranim zbornicima.
A9: 1.2. Provođenje reorganizacije znanstvenog rada i organizacijske reforme | B9: Broj provedenih aktivnosti (opseg) organizacijske reforme s ciljem funkcionalne integracije | C9: Pokazatelj se odnosi na broj aktivnosti (opseg) organizacijske reforme koje se namjeravaju provesti na javnom visokom učilištu, odnosno javnom znanstvenom institutu, s ciljem funkcionalne integracije.
C10: Javno visoko učilište, odnosno javni znanstveni institut, opisuje detaljan opseg planiranih aktivnosti organizacijske reforme.
C11: Reforme s ciljem funkcionalne integracije mogu uključivati objedinjavanje znanstvene opreme kroz središnje uslužne centre, objedinjavanje i smanjenje broja studija, integraciju pojedinačnih doktorskih studija u doktorske škole i sl.
B12: Broj provedenih aktivnosti (opseg) organizacijske reforme s ciljem pravne integracije | C12: Pokazatelj se odnosi na broj aktivnosti (opseg) organizacijske reforme koje se namjeravaju provesti na javnom visokom učilištu, odnosno javnom znanstvenom institutu, s ciljem pravne integracije.
C13: Javno visoko učilište, odnosno javni znanstveni institut, opisuje detaljan opseg planiranih aktivnosti organizacijske reforme.
C14: Reforme s ciljem pravne integracije podrazumijevaju integraciju i konsolidaciju kapaciteta s drugim institucijama sa sličnim misijama, pri čemu reforma u pravilu podrazumijeva pravno spajanje više institucija poput integracija javnih znanstvenih instituta, integracija sastavnica sveučilišta s pravnom osobnošću, pripajanje instituta sveučilištu i sl.
A15: 1.3. Jačanje međunarodne znanstvene suradnje i znanstvene aktivnosti | B15: Broj uspješnih projektnih prijava u suradnji s inozemnim partnerom | C15: Pokazateljem se prati broj uspješnih projektnih prijava na kompetitivne izvore financiranja javnog visokog učilišta, odnosno javnog znanstvenog instituta, u suradnji s inozemnim partnerima
C16: Uspješne prijave definiraju se kao: (a) ugovorene za financiranje ili (b) pozitivno ocjenjene prijave predložene za financiranje, ali nisu financirane zbog nedostatnih sredstava (rezervna lista).
B17: Broj suradnji s inozemnim partnerima | C17: Pokazatelj se odnosi na broj suradnji javnog visokog učilišta, odnosno javnog znanstvenog instituta, ostvarenih s inozemnim partnerima. Suradnje koje se ubrajaju u ostvarenje pokazatelja uključuju barem jednog zaposlenika s javnog visokog učilišta, odnosno javnog znanstvenog instituta, i barem jednog zaposlenika angažiranog na javnom visokom učilištu, javnom znanstvenom institutu ili u poduzeću sa sjedištem izvan RH. Pojam suradnja može se, na primjer, odnositi na objavu najmanje pet zajedničkih publikacija, ugovoreni novi zajednički istraživačko-razvojni projekt, ili druge formalne sporazume i ugovore, memorandume o razumijevanju i druge oblike znanstvene suradnje koji uključuju javno visoko učilište, odnosno javni znanstveni institut, ili njihove zaposlenike.
B18: Broj znanstvenika uključenih u aktivnosti znanstvene mobilnosti | C18: Pokazatelj se odnosi na broj znanstvenika angažiranih na javnom visokom učilištu, odnosno javnom znanstvenom institutu, koji su uključeni u aktivnosti međunarodne mobilnosti. Aktivnost međunarodne mobilnosti definira se kao posjeta znanstvenika znanstvenoj organizaciji u drugoj zemlji u trajanju od najmanje mjesec dana, kako bi provodili istraživačke aktivnosti kao gostujući znanstvenici. Pokazatelj ne uključuje posjećivanje događaja kao što su sastanci, radionice i konferencije.
A19: 1.4. Jačanje ljudskih potencijala za znanstveni rad | B19: Broj znanstvenika koji su stekli poslijediplomsku kvalifikaciju ili završili postdoktorsko usavršavanje izvan matičnog javnog visokog učilišta, odnosno javnog znanstvenog instituta | C19: Pokazatelj prati ukupan broj znanstvenika koji su stekli poslijediplomsku kvalifikaciju ili završili postdoktorsko usavršavanje izvan institucije na kojoj su zaposleni.
B20: Broj završenih doktorata (od čega: doktorati međunarodnih doktorskih studenata) | C20: Pokazatelj prati ukupan broj završenih doktorata znanstvenika angažiranih na javnom visokom učilištu, odnosno javnom znanstvenom institutu, unutar ugovornog razdoblja.
C21: U okviru praćenja pokazatelja, kao posebna (disagregirana) mjera, pratit će se broj inozemnih doktorskih studenata koji završe doktorat na podržanom javnom visokom učilištu, odnosno javnom znanstvenom institutu.
B22: Broj znanstvenika zaposlenih na teret namjenskih/vlastitih sredstava | C22: Pokazatelj prati ukupan broj znanstvenika zaposlenih na javnom visokom učilištu, odnosno javnom znanstvenom institutu, na teret namjenskih/vlastitih sredstava.
C23: Znanstvenik je osoba sa stečenim akademskim stupnjem doktora znanosti odnosno magistra znanosti te osoba upisana na doktorski studij i koja aktivno sudjeluje u provedbi istraživanja.
A24: 1.5. Jačanje ljudskih potencijala stručnih službi | B24: Broj pohađanih i održanih edukacija u svrhu jačanja potencijala stručnih službi | C24: Pokazatelj mjeri broj edukacija koje su zaposlenici stručnih službi pohađali kao i broj edukacija koje su organizirali u svrhu jačanja kapaciteta javnog visokog učilišta, odnosno javnog znanstvenog instituta za provođenje znanstvenih i stručnih projekata.
B25: Broj aktivnosti vezanih uz jačanje kompetencija stručnih službi | C25: Pokazatelj se odnosi na broj aktivnosti koje su provedene na javnom visokom učilištu, odnosno javnom znanstvenom institutu, s ciljem umrežavanja stručnih službi te razmjene najboljih praksi.
B26: Broj projektnih prijava koje su ostvarene u suradnji sa stručnim službama javnog visokog učilišta, odnosno javnog znanstvenog instituta | C26: Pokazatelj mjeri broj projektnih prijava visokog učilišta, odnosno javnog znanstvenog instituta za koje su konzultirane stručne službe. Postojanje interne procedure za prijavu projektnih prijedloga u svrhu osnaživanja suradnje sa stručnim službama i vođenja evidencije projektnih prijava.
A27: 1.6. Unaprjeđenje istraživačke infrastrukture | B27: Ukupno ulaganje javnog visokog učilišta, odnosno javnog znanstvenog instituta, u istraživačku opremu iz vlastitih sredstava | C27: Pokazatelj mjeri ukupnu nabavnu vrijednost opreme za istraživanje i inovacije nabavljenu iz vlastitih sredstava. U ostvarenje pokazatelja ne ubraja se ulaganje u opremu iz sredstava osiguranih kroz bespovratna sredstva ili donacije drugih subjekata u naravi.
C28: Oprema za istraživanje i razvoj uključuje sve aparate, alate i uređaje koji se izravno koriste za obavljanje aktivnosti istraživanja i razvoja. Oprema ne uključuje, na primjer, kemijske tvari ili druge potrošne materijale koji se koriste za provođenje eksperimenata ili drugih istraživačkih aktivnosti.
B29: Ukupno ulaganje javnog visokog učilišta, odnosno javnog znanstvenog instituta, u istraživačku infrastrukturu iz vlastitih sredstava | C29: Pokazatelj mjeri ukupnu vrijednost ulaganja u istraživačku infrastrukturu iz namjenskih ili vlastitih sredstava. U ostvarenje pokazatelja ne ubraja se ulaganje u infrastrukturu iz sredstava osiguranih kroz bespovratna sredstva ili donacije drugih subjekata u naravi.
C30: Ulaganja u istraživačku infrastrukturu mogu se odnositi na projekte izgradnje novih objekata ili poboljšanja postojeće istraživačke infrastrukture unutar svog područja rada ili u svrhu novih smjerova istraživanja.
A31: 1.7. Doprinos otvorenoj znanosti | B31: Broj provedenih mjera i uvedenih alata za poticanje politike otvorene znanosti | C31: Pokazatelj mjeri broj konkretnih mjera koje je institucija poduzela i alata koje je uvela kako bi potaknula i podržala politiku otvorene znanosti. To može uključivati aktivnosti kao što su usvajanje smjernica za otvorenu znanost, organizacija edukativnih radionica o otvorenoj znanosti, razvoj otvorenih istraživačkih platformi ili alata, podrška istraživačima u dijeljenju podataka, te sudjelovanje u inicijativama koje promiču otvorenu znanost.
A32: 1.8. Jačanje interdisciplinarnosti znanstvenog rada | B32: Broj uspješnih projektnih prijava za interdisciplinarne znanstvene projekte | C32: Pokazatelj mjeri broj uspješnih projektnih prijava javnog visokog učilišta, odnosno javnog znanstvenog instituta, na bespovratna sredstva za provedbu znanstvenih projekata u kojima sudjeluju znanstvenici iz najmanje dva različita znanstvena polja.
C33: Uspješne prijave definiraju se kao: (a) ugovorene za financiranje ili (b) pozitivno ocjenjene prijave i predložene za financiranje ali nisu financirane zbog nedostatnih sredstava (rezervna lista).
B34: Broj znanstvenih knjiga uključujući i one za umjetničko područje | C34: Pokazateljem se prati ukupan broj znanstvenih knjiga, autorskih i uredničkih, objavljenih na razini javnog visokog učilišta, odnosno javnog znanstvenog instituta, koji imaju najmanje dvije znanstvene recenzije.
C35: Znanstvenom knjigom smatra se ne-periodičko izdanje koje sadrži znanstvene spoznaje iz znanstveno-nastavne discipline za koju je napisana.
A36: Strateški cilj 2. Jačanje suradnje s gospodarstvom te razvoj nacionalnog i regionalnog identiteta i kulture
A37: 2.1. Poticanje provedbe primijenjenih znanstvenih aktivnosti, uključujući projekte suradnje s gospodarstvom | B37: Broj uspješnih projektnih prijava za projekte primijenjenih istraživanja (od čega: suradni projekti s gospodarstvom ili u kulturi i obrazovanju) | C37: Pokazatelj mjeri broj uspješnih projektnih prijava javnog visokog učilišta, odnosno javnog znanstvenog instituta, za ostvarivanje bespovratnih sredstava za provedbu primijenjenih istraživanja, uključujući kolaborativne projekte u suradnji s gospodarskim subjektima ili u kulturi i obrazovanju. U ostvarenje pokazatelja uključuju se prijave na kompetitivne izvore financiranja koji prvenstveno financiraju znanstvene aktivnosti (ne i stručne). Izvori financiranja uključuju nacionalne (financiranje iz programa NPOO, ESIF, HRZZ i slično) i međunarodne natječaje za dodjelu bespovratnih sredstava (ERC/Horizon Europe, Interreg, Erasmus, ESA i dr.).
C38: Uspješne prijave definiraju se kao: (a) ugovorene za financiranje ili (b) pozitivno ocjenjene prijave i predložene za financiranje ali nisu financirane zbog nedostatnih sredstava (rezervna lista).
C39: Pojam primijenjenih istraživanja odnosi se na kategorije industrijskog istraživanja i eksperimentalnog razvoja, odnosno aktivnosti razine tehnološke spremnosti (TRL) 2-8. Primijenjena istraživanja uključuju projekte u cilju stjecanja novih znanja i vještina za razvoj novih proizvoda, procesa ili usluga, odnosno za postizanje znatnog poboljšanja postojećih proizvoda, procesa ili usluga, a mogu obuhvaćati i izradu prototipova, demonstracijske aktivnosti, pilot-projekata, ispitivanje i provjeru novih ili poboljšanih proizvoda, procesa ili usluga u okruženju koje odražava operativne uvjete, i sl.
C40: U okviru praćenja pokazatelja, kao posebna (disagregirana) mjera, pratit će se projektne prijave za financiranje suradnih projekata s partnerima iz gospodarstva.
...
